BEGIN:VCALENDAR
VERSION:2.0
PRODID:icalendar-ruby
CALSCALE:GREGORIAN
METHOD:PUBLISH
BEGIN:VEVENT
DTSTAMP:20260426T030229Z
UID:6-570157@messageof.tithelysetup2.com
DTSTART:20260530T150000Z
DTEND:20260530T171500Z
CLASS:PUBLIC
CREATED:20260425T212918
DESCRIPTION:
LAST-MODIFIED:20260425T212918
LOCATION:970 Tuskawilla Road\, Winter Springs\, FL. 32708
SUMMARY:Divine Worship
URL;VALUE=URI:https://messageof.tithelysetup2.com/events/divine-worship/202
 6-05-30
END:VEVENT
END:VCALENDAR
