BEGIN:VCALENDAR
VERSION:2.0
PRODID:icalendar-ruby
CALSCALE:GREGORIAN
METHOD:PUBLISH
BEGIN:VEVENT
DTSTAMP:20260421T084716Z
UID:25-557728@messageof.tithelysetup2.com
DTSTART:20261028T233000Z
DTEND:20261029T003000Z
CLASS:PUBLIC
CREATED:20260420T205128
DESCRIPTION:Click Here to join Zoom
LAST-MODIFIED:20260420T205128
LOCATION:Zoom
SUMMARY:Revival: Bible Study/Prayer Meeting Series new
URL;VALUE=URI:https://messageof.tithelysetup2.com/events/revival-bible-stud
 y-prayer-meeting-series-new/2026-10-28
ATTACH;FILENAME=Relaxing-and-Meditating-study-Music.png;FMTTYPE=image/png:h
 ttps://dq5pwpg1q8ru0.cloudfront.net/2026/03/28/17/04/56/a72927df-ab8b-4d33
 -8af8-b3bd12872f1b/Relaxing-and-Meditating-study-Music.png
END:VEVENT
END:VCALENDAR
